Workbook

Sheet Итоги
A1: TCO робота • 1 / 3 / 5 лет
A2: Публичный шаблон сравнения двух вариантов. Заполните одинаковый результат, все платежи и внутренние ресурсы. Меньший TCO не доказывает пригодность или окупаемость.
A4: Метрика / рубли, если не указано иное | B4: A • 1 год | C4: A • 3 года | D4: A • 5 лет | E4: B • 1 год | F4: B • 3 года | G4: B • 5 лет
A5: Горизонт, месяцев | B5: 12 | C5: 36 | D5: 60 | E5: 12 | F5: 36 | G5: 60
A6: Вариант | B6: Покупка | C6: Покупка | D6: Покупка | E6: Аренда | F6: Аренда | G6: Аренда
A7: Разовые затраты до депозита | B7: =Разовые!B15 -> 0 | C7: =Разовые!B15 -> 0 | D7: =Разовые!B15 -> 0 | E7: =Разовые!D15 -> 0 | F7: =Разовые!D15 -> 0 | G7: =Разовые!D15 -> 0
A8: Внешние платежи в первый месяц | B8: =Ежемесячные!D15 -> 0 | C8: =Ежемесячные!D15 -> 0 | D8: =Ежемесячные!D15 -> 0 | E8: =Ежемесячные!G15 -> 0 | F8: =Ежемесячные!G15 -> 0 | G8: =Ежемесячные!G15 -> 0
A9: Внутренний труд в первый месяц | B9: =Ежемесячные!D18 -> 0 | C9: =Ежемесячные!D18 -> 0 | D9: =Ежемесячные!D18 -> 0 | E9: =Ежемесячные!G18 -> 0 | F9: =Ежемесячные!G18 -> 0 | G9: =Ежемесячные!G18 -> 0
A10: Крупные платежи за горизонт | B10: =SUMIF(Замены!$A$5:$A$14,"<="&B$5,Замены!$C$5:$C$14) -> 0 | C10: =SUMIF(Замены!$A$5:$A$14,"<="&C$5,Замены!$C$5:$C$14) -> 0 | D10: =SUMIF(Замены!$A$5:$A$14,"<="&D$5,Замены!$C$5:$C$14) -> 0 | E10: =SUMIF(Замены!$A$5:$A$14,"<="&E$5,Замены!$D$5:$D$14) -> 0 | F10: =SUMIF(Замены!$A$5:$A$14,"<="&F$5,Замены!$D$5:$D$14) -> 0 | G10: =SUMIF(Замены!$A$5:$A$14,"<="&G$5,Замены!$D$5:$D$14) -> 0
A11: Денежные расходы до закрытия | B11: =INDEX('Поток 60 мес'!$F$5:$F$65,B$5+1) -> 0 | C11: =INDEX('Поток 60 мес'!$F$5:$F$65,C$5+1) -> 0 | D11: =INDEX('Поток 60 мес'!$F$5:$F$65,D$5+1) -> 0 | E11: =INDEX('Поток 60 мес'!$O$5:$O$65,E$5+1) -> 0 | F11: =INDEX('Поток 60 мес'!$O$5:$O$65,F$5+1) -> 0 | G11: =INDEX('Поток 60 мес'!$O$5:$O$65,G$5+1) -> 0
A12: Труд без дополнительных платежей | B12: =INDEX('Поток 60 мес'!$H$5:$H$65,B$5+1)-B11 -> 0 | C12: =INDEX('Поток 60 мес'!$H$5:$H$65,C$5+1)-C11 -> 0 | D12: =INDEX('Поток 60 мес'!$H$5:$H$65,D$5+1)-D11 -> 0 | E12: =INDEX('Поток 60 мес'!$Q$5:$Q$65,E$5+1)-E11 -> 0 | F12: =INDEX('Поток 60 мес'!$Q$5:$Q$65,F$5+1)-F11 -> 0 | G12: =INDEX('Поток 60 мес'!$Q$5:$Q$65,G$5+1)-G11 -> 0
A13: Закрытие / возврат / демонтаж | B13: =Вводные!B17 -> 0 | C13: =Вводные!B17 -> 0 | D13: =Вводные!B17 -> 0 | E13: =Вводные!C17 -> 0 | F13: =Вводные!C17 -> 0 | G13: =Вводные!C17 -> 0
A14: Поступление от продажи (вычитается) | B14: =-Вводные!B18 -> 0 | C14: =-Вводные!B19 -> 0 | D14: =-Вводные!B20 -> 0 | E14: =-Вводные!C18 -> 0 | F14: =-Вводные!C19 -> 0 | G14: =-Вводные!C20 -> 0
A15: Невозвращённый депозит | B15: =Вводные!B15*(1-Вводные!B16) -> 0 | C15: =Вводные!B15*(1-Вводные!B16) -> 0 | D15: =Вводные!B15*(1-Вводные!B16) -> 0 | E15: =Вводные!C15*(1-Вводные!C16) -> 0 | F15: =Вводные!C15*(1-Вводные!C16) -> 0 | G15: =Вводные!C15*(1-Вводные!C16) -> 0
A16: УПРАВЛЕНЧЕСКИЙ TCO | B16: =SUM(B11:B15) -> 0 | C16: =SUM(C11:C15) -> 0 | D16: =SUM(D11:D15) -> 0 | E16: =SUM(E11:E15) -> 0 | F16: =SUM(F11:F15) -> 0 | G16: =SUM(G11:G15) -> 0
A17: ИТОГОВЫЕ ДЕНЕЖНЫЕ ЗАТРАТЫ | B17: =SUM(B11,B13:B15) -> 0 | C17: =SUM(C11,C13:C15) -> 0 | D17: =SUM(D11,D13:D15) -> 0 | E17: =SUM(E11,E13:E15) -> 0 | F17: =SUM(F11,F13:F15) -> 0 | G17: =SUM(G11,G13:G15) -> 0
A18: TCO в среднем за месяц | B18: =B16/B$5 -> 0 | C18: =C16/C$5 -> 0 | D18: =D16/D$5 -> 0 | E18: =E16/E$5 -> 0 | F18: =F16/F$5 -> 0 | G18: =G16/G$5 -> 0
A19: Выплаты до возвратов и продажи | B19: =SUM(B11,B13)+Вводные!B15 -> 0 | C19: =SUM(C11,C13)+Вводные!B15 -> 0 | D19: =SUM(D11,D13)+Вводные!B15 -> 0 | E19: =SUM(E11,E13)+Вводные!C15 -> 0 | F19: =SUM(F11,F13)+Вводные!C15 -> 0 | G19: =SUM(G11,G13)+Вводные!C15 -> 0
A20: Возвращаемый депозит | B20: =Вводные!B15*Вводные!B16 -> 0 | C20: =Вводные!B15*Вводные!B16 -> 0 | D20: =Вводные!B15*Вводные!B16 -> 0 | E20: =Вводные!C15*Вводные!C16 -> 0 | F20: =Вводные!C15*Вводные!C16 -> 0 | G20: =Вводные!C15*Вводные!C16 -> 0
A21: Приведённые денежные затраты (PV) | B21: =IF(1+Вводные!$B$10>0,INDEX('Поток 60 мес'!$I$5:$I$65,B$5+1)+Вводные!B15+(B13+B14-B20)/(1+Вводные!$B$10)^(B$5/Вводные!$B$24),"") -> 0 | C21: =IF(1+Вводные!$B$10>0,INDEX('Поток 60 мес'!$I$5:$I$65,C$5+1)+Вводные!B15+(C13+C14-C20)/(1+Вводные!$B$10)^(C$5/Вводные!$B$24),"") -> 0 | D21: =IF(1+Вводные!$B$10>0,INDEX('Поток 60 мес'!$I$5:$I$65,D$5+1)+Вводные!B15+(D13+D14-D20)/(1+Вводные!$B$10)^(D$5/Вводные!$B$24),"") -> 0 | E21: =IF(1+Вводные!$B$10>0,INDEX('Поток 60 мес'!$R$5:$R$65,E$5+1)+Вводные!C15+(E13+E14-E20)/(1+Вводные!$B$10)^(E$5/Вводные!$B$24),"") -> 0 | F21: =IF(1+Вводные!$B$10>0,INDEX('Поток 60 мес'!$R$5:$R$65,F$5+1)+Вводные!C15+(F13+F14-F20)/(1+Вводные!$B$10)^(F$5/Вводные!$B$24),"") -> 0 | G21: =IF(1+Вводные!$B$10>0,INDEX('Поток 60 мес'!$R$5:$R$65,G$5+1)+Вводные!C15+(G13+G14-G20)/(1+Вводные!$B$10)^(G$5/Вводные!$B$24),"") -> 0
A22: Приведённый ресурсный TCO (PV) | B22: =IF(1+Вводные!$B$10>0,INDEX('Поток 60 мес'!$J$5:$J$65,B$5+1)+Вводные!B15+(B13+B14-B20)/(1+Вводные!$B$10)^(B$5/Вводные!$B$24),"") -> 0 | C22: =IF(1+Вводные!$B$10>0,INDEX('Поток 60 мес'!$J$5:$J$65,C$5+1)+Вводные!B15+(C13+C14-C20)/(1+Вводные!$B$10)^(C$5/Вводные!$B$24),"") -> 0 | D22: =IF(1+Вводные!$B$10>0,INDEX('Поток 60 мес'!$J$5:$J$65,D$5+1)+Вводные!B15+(D13+D14-D20)/(1+Вводные!$B$10)^(D$5/Вводные!$B$24),"") -> 0 | E22: =IF(1+Вводные!$B$10>0,INDEX('Поток 60 мес'!$S$5:$S$65,E$5+1)+Вводные!C15+(E13+E14-E20)/(1+Вводные!$B$10)^(E$5/Вводные!$B$24),"") -> 0 | F22: =IF(1+Вводные!$B$10>0,INDEX('Поток 60 мес'!$S$5:$S$65,F$5+1)+Вводные!C15+(F13+F14-F20)/(1+Вводные!$B$10)^(F$5/Вводные!$B$24),"") -> 0 | G22: =IF(1+Вводные!$B$10>0,INDEX('Поток 60 мес'!$S$5:$S$65,G$5+1)+Вводные!C15+(G13+G14-G20)/(1+Вводные!$B$10)^(G$5/Вводные!$B$24),"") -> 0
A23: Принятый объём, ед. | B23: =INDEX('Поток 60 мес'!$T$5:$T$65,B$5+1) -> 12000 | C23: =INDEX('Поток 60 мес'!$T$5:$T$65,C$5+1) -> 36000 | D23: =INDEX('Поток 60 мес'!$T$5:$T$65,D$5+1) -> 60000 | E23: =INDEX('Поток 60 мес'!$U$5:$U$65,E$5+1) -> 12000 | F23: =INDEX('Поток 60 мес'!$U$5:$U$65,F$5+1) -> 36000 | G23: =INDEX('Поток 60 мес'!$U$5:$U$65,G$5+1) -> 60000
A24: TCO на принятую единицу, ₽ | B24: =IF(B23>0,B16/B23,"Нет объёма") -> 0 | C24: =IF(C23>0,C16/C23,"Нет объёма") -> 0 | D24: =IF(D23>0,D16/D23,"Нет объёма") -> 0 | E24: =IF(E23>0,E16/E23,"Нет объёма") -> 0 | F24: =IF(F23>0,F16/F23,"Нет объёма") -> 0 | G24: =IF(G23>0,G16/G23,"Нет объёма") -> 0
A25: Условная балансовая стоимость — справочно | B25: =IF(Вводные!B22>0,MAX(Вводные!B23,Вводные!B21-(Вводные!B21-Вводные!B23)*B$5/Вводные!B22),"Нет срока") -> Нет срока | C25: =IF(Вводные!B22>0,MAX(Вводные!B23,Вводные!B21-(Вводные!B21-Вводные!B23)*C$5/Вводные!B22),"Нет срока") -> Нет срока | D25: =IF(Вводные!B22>0,MAX(Вводные!B23,Вводные!B21-(Вводные!B21-Вводные!B23)*D$5/Вводные!B22),"Нет срока") -> Нет срока | E25: =IF(Вводные!C22>0,MAX(Вводные!C23,Вводные!C21-(Вводные!C21-Вводные!C23)*E$5/Вводные!C22),"Нет срока") -> Нет срока | F25: =IF(Вводные!C22>0,MAX(Вводные!C23,Вводные!C21-(Вводные!C21-Вводные!C23)*F$5/Вводные!C22),"Нет срока") -> Нет срока | G25: =IF(Вводные!C22>0,MAX(Вводные!C23,Вводные!C21-(Вводные!C21-Вводные!C23)*G$5/Вводные!C22),"Нет срока") -> Нет срока
A27: =IF(AND(Вводные!B9="Да",Вводные!C9="Да",Вводные!B7=Вводные!C7,Вводные!B8=Вводные!C8),"Сопоставимость отмечена пользователем. Проверьте договорные условия.","ПРЕДУПРЕЖДЕНИЕ: одинаковый объём и качество результата ещё не подтверждены.") -> ПРЕДУПРЕЖДЕНИЕ: одинаковый объём и качество результата ещё не подтверждены.
A28: ="Строки с запросом цены: "&(COUNTIF(Разовые!C5:C14,"Запросить")+COUNTIF(Разовые!E5:E14,"Запросить")+COUNTIF(Ежемесячные!H5:H13,"Запросить")+COUNTIF(Замены!E5:F14,"Запросить"))&". Допущения не заменяют коммерческие предложения." -> Строки с запросом цены: 49. Допущения не заменяют коммерческие предложения.
A29: Продажа на 12, 36 и 60 месяцах — три альтернативы. В обычном TCO возвратный депозит сокращается; в PV влияет время возврата.
A30: Амортизация, бюджетный резерв и эффект от экономии НЕ добавлены повторно. 30 часов × 600 ₽ — ресурс; новых зарплатных платежей в примере нет.
A31: Изменяйте синие вводные. При неизвестной цене поставьте статус «Запросить»: ноль не означает бесплатную услугу.
A32: =IF(AND(COUNT(Разовые!B5:B14)=10,COUNT(Разовые!D5:D14)=10,COUNT(Ежемесячные!B5:B13)=9,COUNT(Ежемесячные!E5:E13)=9,Вводные!B10>-1,Вводные!B11>-1,Вводные!C11>-1,Вводные!B14>=0,Вводные!B14<=1,Вводные!C14>=0,Вводные!C14<=1,Вводные!B16>=0,Вводные!B16<=1,Вводные!C16>=0,Вводные!C16<=1,MIN(Разовые!B5:B14)>=0,MIN(Разовые!D5:D14)>=0,MIN(Ежемесячные!B5:B13)>=0,MIN(Ежемесячные!E5:E13)>=0,MIN(Вводные!B12:C13)>=0,MIN(Вводные!B15:C15)>=0,MIN(Вводные!B17:C23)>=0,Вводные!B21>=Вводные!B23,Вводные!C21>=Вводные!C23,OR(Замены!A5="",AND(ISNUMBER(Замены!A5),Замены!A5>=1,Замены!A5<=60,MOD(Замены!A5,1)=0)),OR(Замены!A6="",AND(ISNUMBER(Замены!A6),Замены!A6>=1,Замены!A6<=60,MOD(Замены!A6,1)=0)),OR(Замены!A7="",AND(ISNUMBER(Замены!A7),Замены!A7>=1,Замены!A7<=60,MOD(Замены!A7,1)=0)),OR(Замены!A8="",AND(ISNUMBER(Замены!A8),Замены!A8>=1,Замены!A8<=60,MOD(Замены!A8,1)=0)),OR(Замены!A9="",AND(ISNUMBER(Замены!A9),Замены!A9>=1,Замены!A9<=60,MOD(Замены!A9,1)=0)),OR(Замены!A10="",AND(ISNUMBER(Замены!A10),Замены!A10>=1,Замены!A10<=60,MOD(Замены!A10,1)=0)),OR(Замены!A11="",AND(ISNUMBER(Замены!A11),Замены!A11>=1,Замены!A11<=60,MOD(Замены!A11,1)=0)),OR(Замены!A12="",AND(ISNUMBER(Замены!A12),Замены!A12>=1,Замены!A12<=60,MOD(Замены!A12,1)=0)),OR(Замены!A13="",AND(ISNUMBER(Замены!A13),Замены!A13>=1,Замены!A13<=60,MOD(Замены!A13,1)=0)),OR(Замены!A14="",AND(ISNUMBER(Замены!A14),Замены!A14>=1,Замены!A14<=60,MOD(Замены!A14,1)=0))),"Основные числовые поля заполнены. Это не подтверждение их достоверности.","ПРОВЕРИТЬ суммы, ставки, остаток и месяцы замен (1–60). Не использовать итог до исправления.") -> Основные числовые поля заполнены. Это не подтверждение их достоверности.
A54: Горизонт | B54: A • управленческий TCO | C54: B • управленческий TCO
A55: 1 год | B55: =B16 -> 0 | C55: =E16 -> 0
A56: 3 года | B56: =C16 -> 0 | C56: =F16 -> 0
A57: 5 лет | B57: =D16 -> 0 | C57: =G16 -> 0

Sheet Вводные
A1: 01 / Параметры сравниваемой операции
A2: Публичный шаблон. Денежные поля очищены: внесите данные сравниваемых предложений. Это не смета Unibot и не прогноз ресурса.
A3: Денежная база: сопоставимые рубли после отдельной проверки налогов. Автоматического расчёта НДС, пошлин и кредита нет.
A4: Параметр | B4: A • Покупка | C4: B • Аренда | D4: Единица | E4: Как заполнять
A5: Название варианта | B5: Покупка / пример | C5: Аренда / пример | D5: текст | E5: Одна и та же гипотетическая операция, а не разные классы роботов.
A6: Сравниваемая операция | B6: Повторяемая операция | C6: Повторяемая операция | D6: текст | E6: В реальном проекте задайте груз / площадь, качество, сроки и границы процесса.
A7: Единица результата | B7: принятое задание | C7: принятое задание | D7: ед. | E7: Для уборки замените на м² принятых обработок; не сравнивайте разные единицы.
A8: Принятый объём за месяц | B8: 1000 | C8: 1000 | D8: ед./мес. | E8: Допущение. Объём всей согласованной операции, включая ручной резерв; качество одинаковое.
A9: Сопоставимый результат подтверждён? | B9: Нет | C9: Нет | D9: Да / Нет | E9: Поставьте «Да» только после проверки возможности выполнить тот же объём и качество.
A10: Ставка дисконтирования, годовая | B10: 0 | C10: 0 | D10: %/год | E10: 15% — только допущение. У обоих вариантов применяется одинаковая ставка.
A11: Годовая индексация регулярных затрат | B11: 0 | C11: 0 | D11: %/год | E11: Изменение с 13-го, 25-го и следующих годов эксплуатации; не прогноз инфляции.
A12: Время внутренних сотрудников | B12: 30 | C12: 30 | D12: ч/мес. | E12: Включите все относимые к операции часы. Не начисляйте повторно работу внешнего пакета.
A13: Стоимость внутреннего часа | B13: 0 | C13: 0 | D13: ₽/ч | E13: Управленческая стоимость ресурса; не средняя зарплата и не котировка труда.
A14: Доля внутреннего труда в новых платежах | B14: 0 | C14: 0 | D14: % | E14: 0%: фонд оплаты не меняется. Управленческий TCO всё равно учитывает стоимость этих часов.
A15: Возвратный депозит в месяце 0 | B15: 0 | C15: 0 | D15: ₽ | E15: Отдельно от платы за запуск. Не включайте второй раз в разовые расходы.
A16: Доля депозита, возвращаемая при выходе | B16: 0 | C16: 0 | D16: % | E16: Невозвращённая доля увеличивает затраты. Проверить договор.
A17: Демонтаж / возврат / закрытие проекта | B17: 0 | C17: 0 | D17: ₽ | E17: Номинальная сумма при любом из трёх самостоятельных горизонтов.
A18: Поступление от продажи через 12 месяцев | B18: 0 | C18: 0 | D18: ₽ | E18: Допущение. Не бухгалтерская стоимость и не подтверждённый выкуп.
A19: Поступление от продажи через 36 месяцев | B19: 0 | C19: 0 | D19: ₽ | E19: Альтернатива продаже на 12-м месяце: продажи НЕ складываются.
A20: Поступление от продажи через 60 месяцев | B20: 0 | C20: 0 | D20: ₽ | E20: Альтернативный горизонт. При продолжении работы поступление не возникает.
A21: Условная база распределения стоимости | B21: 0 | C21: 0 | D21: ₽ | E21: Только иллюстрация амортизации, не определение учётной стоимости по правилам организации.
... A25: Расчётный предел | B25: 60 | C25: 60 | D25: мес. | E25: Календарь поддерживает месяцы 1–60.
A29: Ограничения: месячные платежи и ежегодная индексация; нет автоматического графика годовой предоплаты, лизинга, налогов или сезонности.

Sheet Разовые
A1: 02 / Разовые затраты до запуска
A2: Все суммы ниже платятся в месяце 0. Нулевые строки требуют объяснения: «включено» не равно «неизвестно».
A4: Статья | B4: A • ₽ | C4: Статус A | D4: B • ₽ | E4: Статус B | F4: Комплектация и включение
A5: Робот в согласованной комплектации | B5: 0 | C5: Запросить | D5: 0 | E5: Запросить | F5: В B оборудование оплачивается арендной строкой, не покупкой.
A6: Станция, оснастка, дополнительные модули | B6: 0 | C6: Запросить | D6: 0 | E6: Запросить | F6: В учебном примере входят в оборудование / аренду. В КП нужны артикулы.
A7: Доставка, разгрузка и перевозка по объекту | B7: 0 | C7: Запросить | D7: 0 | E7: Запросить | F7: Ровно одна доставка в каждом варианте; обратная перевозка — в закрытии проекта.
A8: Таможня, оформление, невозмещаемые платежи | B8: 0 | C8: Запросить | D8: 0 | E8: Запросить | F8: Учебное допущение: куплено внутри РФ, соответствующие суммы уже в цене поставщика.
A9: Подготовка инфраструктуры | B9: 0 | C9: Запросить | D9: 0 | E9: Запросить | F9: Одинаковый объект в A и B, без выдуманного типового процента к цене машины.
A10: Настройка и запуск | B10: 0 | C10: Запросить | D10: 0 | E10: Запросить | F10: В примере включает начальное обучение; не тариф для любого робота.
A11: Прикладная разработка и интеграции | B11: 0 | C11: Запросить | D11: 0 | E11: Запросить | F11: Учебный простой сценарий без отдельной разработки. Для реального проекта проверить.
A12: Первичное обучение | B12: 0 | C12: Запросить | D12: 0 | E12: Запросить | F12: Уже учтено строкой «Настройка и запуск».
A13: Пилот и приёмочный протокол | B13: 0 | C13: Запросить | D13: 0 | E13: Запросить | F13: Самостоятельный непересекающийся набор работ в этом примере.
A14: Прочие разовые затраты | B14: 0 | C14: Запросить | D14: 0 | E14: Запросить | F14: При появлении дополнительной строки не оставляйте её без основания.
A15: ИТОГО до депозита | B15: =SUM(B5:B14) -> 0 | D15: =SUM(D5:D14) -> 0

Sheet Ежемесячные
A1: 03 / Регулярные платежи и ресурсы команды
A2: «В пакете: Да» обнуляет доплату, но не меняет цену пакета. Цены в строках — допущения, не утверждённые ставки.
A4: Статья | B4: A • ввод, ₽ | C4: В пакете A? | D4: A • доплата, ₽ | E4: B • ввод, ₽ | F4: В пакете B? | G4: B • доплата, ₽ | H4: Статус | I4: Условия
A5: Арендная / абонентская плата | B5: 0 | C5: Нет | D5: =IF(C5="Да",0,IF(ISNUMBER(B5),B5,0)) -> 0 | E5: 0 | F5: Нет | G5: =IF(F5="Да",0,IF(ISNUMBER(E5),E5,0)) -> 0 | H5: Запросить | I5: Одна и та же гипотетическая машина и услуга. Не рыночная смета конкретной модели.
A6: Сервисный пакет | B6: 0 | C6: Нет | D6: =IF(C6="Да",0,IF(ISNUMBER(B6),B6,0)) -> 0 | E6: 0 | F6: Нет | G6: =IF(F6="Да",0,IF(ISNUMBER(E6),E6,0)) -> 0 | H6: Запросить | I6: В B сервис предполагается включённым в аренду. Подтвердить состав, регион и исключения.
A7: Расходники | B7: 0 | C7: Нет | D7: =IF(C7="Да",0,IF(ISNUMBER(B7),B7,0)) -> 0 | E7: 0 | F7: Нет | G7: =IF(F7="Да",0,IF(ISNUMBER(E7),E7,0)) -> 0 | H7: Запросить | I7: В обеих схемах сверх пакета; крупные замены — отдельным календарём.
A8: Вода и электроэнергия | B8: 0 | C8: Нет | D8: =IF(C8="Да",0,IF(ISNUMBER(B8),B8,0)) -> 0 | E8: 0 | F8: Нет | G8: =IF(F8="Да",0,IF(ISNUMBER(E8),E8,0)) -> 0 | H8: Запросить | I8: Одинаковый объём и тарифная база; в реальности нужен замер.
A9: Лицензии и программные сервисы | B9: 0 | C9: Нет | D9: =IF(C9="Да",0,IF(ISNUMBER(B9),B9,0)) -> 0 | E9: 0 | F9: Нет | G9: =IF(F9="Да",0,IF(ISNUMBER(E9),E9,0)) -> 0 | H9: Запросить | I9: В учебном примере помесячная оплата. При годовой предоплате используйте календарь.
A10: Связь и удалённый мониторинг | B10: 0 | C10: Нет | D10: =IF(C10="Да",0,IF(ISNUMBER(B10),B10,0)) -> 0 | E10: 0 | F10: Нет | G10: =IF(F10="Да",0,IF(ISNUMBER(E10),E10,0)) -> 0 | H10: Запросить | I10: Предполагаются внутри программного пакета; не считать второй раз.
A11: Договор резервного обслуживания | B11: 0 | C11: Нет | D11: =IF(C11="Да",0,IF(ISNUMBER(B11),B11,0)) -> 0 | E11: 0 | F11: Нет | G11: =IF(F11="Да",0,IF(ISNUMBER(E11),E11,0)) -> 0 | H11: Запросить | I11: Денежный резерв на счёте не является расходом. Фактические резервные работы внесите сюда или в календарь.
A12: Повторное обучение | B12: 0 | C12: Нет | D12: =IF(C12="Да",0,IF(ISNUMBER(B12),B12,0)) -> 0 | E12: 0 | F12: Нет | G12: =IF(F12="Да",0,IF(ISNUMBER(E12),E12,0)) -> 0 | H12: Запросить | I12: Для расчётного примера исключено. В реальности зависит от текучести и изменения ПО.
A13: Другие внешние платежи | B13: 0 | C13: Нет | D13: =IF(C13="Да",0,IF(ISNUMBER(B13),B13,0)) -> 0 | E13: 0 | F13: Нет | G13: =IF(F13="Да",0,IF(ISNUMBER(E13),E13,0)) -> 0 | H13: Запросить | I13: Например, страхование, платное хранение; не считать обязательными без задания.
A15: Внешние доплаты / месяц | D15: =SUM(D5:D13) -> 0 | G15: =SUM(G5:G13) -> 0
A17: Все внутренние часы / месяц | D17: =Вводные!B12 -> 30 | G17: =Вводные!C12 -> 30
A18: Управленческая стоимость внутреннего труда | D18: =Вводные!B12*Вводные!B13 -> 0 | G18: =Вводные!C12*Вводные!C13 -> 0
A19: Из них дополнительные денежные выплаты | D19: =D18*Вводные!B14 -> 0 | G19: =G18*Вводные!C14 -> 0
A20: Ресурсные затраты / месяц всего | D20: =SUM(D15,D18) -> 0 | G20: =SUM(G15,G18) -> 0
A21: Новые денежные платежи / месяц всего | D21: =SUM(D15,D19) -> 0 | G21: =SUM(G15,G19) -> 0

Sheet Замены
A1: 04 / Календарь крупных платежей
A2: Суммы календаря — уже номинальные платежи выбранного месяца, без дополнительной индексации. Каждую замену считать один раз.
A4: Месяц 1–60 | B4: Работа / комплектующая | C4: A • ₽ | D4: B • ₽ | E4: Статус A | F4: Статус B | G4: Источник / включение
A5: 24 | B5: Условная крупная замена №1 | C5: 0 | D5: 0 | E5: Запросить | F5: Запросить | G5: Не цена батареи и не её ресурс. В B предполагается покрытие арендным пакетом.
A6: 48 | B6: Условная крупная замена №2 | C6: 0 | D6: 0 | E6: Запросить | F6: Запросить | G6: То же допущение; реальный регламент определяется документами и наработкой.
C7: 0 | D7: 0 | E7: Запросить | F7: Запросить
C8: 0 | D8: 0 | E8: Запросить | F8: Запросить
C9: 0 | D9: 0 | E9: Запросить | F9: Запросить
C10: 0 | D10: 0 | E10: Запросить | F10: Запросить
C11: 0 | D11: 0 | E11: Запросить | F11: Запросить
C12: 0 | D12: 0 | E12: Запросить | F12: Запросить
C13: 0 | D13: 0 | E13: Запросить | F13: Запросить
C14: 0 | D14: 0 | E14: Запросить | F14: Запросить
C15: 0 | D15: 0 | E15: Запросить | F15: Запросить
C16: 0 | D16: 0 | E16: Запросить | F16: Запросить
C17: 0 | D17: 0 | E17: Запросить | F17: Запросить
C18: 0 | D18: 0 | E18: Запросить | F18: Запросить
... C20: 0 | D20: 0 | E20: Запросить | F20: Запросить

Sheet Поток 60 мес
A1: 05 / Расчёт по месяцам • без закрытия проекта
A2: Старт в месяце 0; последующие расходы в конце месяца. Депозит, выход и продажа добавляются отдельно для каждого горизонта на листе «Итоги».
A4: Месяц | B4: Внешние A, ₽ | C4: Труд A, ₽ | D4: Новые выплаты труда A, ₽ | E4: Платежи A, ₽ | F4: Накоплено платежей A, ₽ | G4: Ресурсы A, ₽ | H4: Накоплено ресурсов A, ₽ | I4: PV платежей A, ₽ | J4: PV ресурсов A, ₽ | K4: Внешние B, ₽ | L4: Труд B, ₽ | M4: Новые выплаты труда B, ₽ | N4: Платежи B, ₽ | O4: Накоплено платежей B, ₽ | P4: Ресурсы B, ₽ | Q4: Накоплено ресурсов B, ₽ | R4: PV платежей B, ₽ | S4: PV ресурсов B, ₽ | T4: Принято A, накопл. | U4: Принято B, накопл.
A5: =0 -> 0 | B5: =Разовые!B15 -> 0 | C5: =0 -> 0 | D5: =C5*Вводные!B14 -> 0 | E5: =SUM(B5,D5) -> 0 | F5: =SUM(E$5:E5) -> 0 | G5: =SUM(B5,C5) -> 0 | H5: =SUM(G$5:G5) -> 0 | I5: =E5 -> 0 | J5: =G5 -> 0 | K5: =Разовые!D15 -> 0 | L5: =0 -> 0 | M5: =L5*Вводные!C14 -> 0 | N5: =SUM(K5,M5) -> 0 | O5: =SUM(N$5:N5) -> 0 | P5: =SUM(K5,L5) -> 0 | Q5: =SUM(P$5:P5) -> 0 | R5: =N5 -> 0 | S5: =P5 -> 0 | T5: =A5*Вводные!B8 -> 0 | U5: =A5*Вводные!C8 -> 0
A6: =A5+1 -> 1 | B6: =Ежемесячные!D15*(1+Вводные!B11)^INT((A6-1)/Вводные!$B$24)+SUMIF(Замены!$A$5:$A$14,A6,Замены!$C$5:$C$14) -> 0 | C6: =Ежемесячные!D18*(1+Вводные!B11)^INT((A6-1)/Вводные!$B$24) -> 0 | D6: =C6*Вводные!B14 -> 0 | E6: =SUM(B6,D6) -> 0 | F6: =SUM(E$5:E6) -> 0 | G6: =SUM(B6,C6) -> 0 | H6: =SUM(G$5:G6) -> 0 | I6: =IF(1+Вводные!$B$10>0,I5+E6/(1+Вводные!$B$10)^(A6/Вводные!$B$24),"") -> 0 | J6: =IF(1+Вводные!$B$10>0,J5+G6/(1+Вводные!$B$10)^(A6/Вводные!$B$24),"") -> 0 | K6: =Ежемесячные!G15*(1+Вводные!C11)^INT((A6-1)/Вводные!$B$24)+SUMIF(Замены!$A$5:$A$14,A6,Замены!$D$5:$D$14) -> 0 | L6: =Ежемесячные!G18*(1+Вводные!C11)^INT((A6-1)/Вводные!$B$24) -> 0 | M6: =L6*Вводные!C14 -> 0 | N6: =SUM(K6,M6) -> 0 | O6: =SUM(N$5:N6) -> 0 | P6: =SUM(K6,L6) -> 0 | Q6: =SUM(P$5:P6) -> 0 | R6: =IF(1+Вводные!$B$10>0,R5+N6/(1+Вводные!$B$10)^(A6/Вводные!$B$24),"") -> 0 | S6: =IF(1+Вводные!$B$10>0,S5+P6/(1+Вводные!$B$10)^(A6/Вводные!$B$24),"") -> 0 | T6: =A6*Вводные!B8 -> 1000 | U6: =A6*Вводные!C8 -> 1000
A7: =A6+1 -> 2 | B7: =Ежемесячные!D15*(1+Вводные!B11)^INT((A7-1)/Вводные!$B$24)+SUMIF(Замены!$A$5:$A$14,A7,Замены!$C$5:$C$14) -> 0 | C7: =Ежемесячные!D18*(1+Вводные!B11)^INT((A7-1)/Вводные!$B$24) -> 0 | D7: =C7*Вводные!B14 -> 0 | E7: =SUM(B7,D7) -> 0 | F7: =SUM(E$5:E7) -> 0 | G7: =SUM(B7,C7) -> 0 | H7: =SUM(G$5:G7) -> 0 | I7: =IF(1+Вводные!$B$10>0,I6+E7/(1+Вводные!$B$10)^(A7/Вводные!$B$24),"") -> 0 | J7: =IF(1+Вводные!$B$10>0,J6+G7/(1+Вводные!$B$10)^(A7/Вводные!$B$24),"") -> 0 | K7: =Ежемесячные!G15*(1+Вводные!C11)^INT((A7-1)/Вводные!$B$24)+SUMIF(Замены!$A$5:$A$14,A7,Замены!$D$5:$D$14) -> 0 | L7: =Ежемесячные!G18*(1+Вводные!C11)^INT((A7-1)/Вводные!$B$24) -> 0 | M7: =L7*Вводные!C14 -> 0 | N7: =SUM(K7,M7) -> 0 | O7: =SUM(N$5:N7) -> 0 | P7: =SUM(K7,L7) -> 0 | Q7: =SUM(P$5:P7) -> 0 | R7: =IF(1+Вводные!$B$10>0,R6+N7/(1+Вводные!$B$10)^(A7/Вводные!$B$24),"") -> 0 | S7: =IF(1+Вводные!$B$10>0,S6+P7/(1+Вводные!$B$10)^(A7/Вводные!$B$24),"") -> 0 | T7: =A7*Вводные!B8 -> 2000 | U7: =A7*Вводные!C8 -> 2000
A8: =A7+1 -> 3 | B8: =Ежемесячные!D15*(1+Вводные!B11)^INT((A8-1)/Вводные!$B$24)+SUMIF(Замены!$A$5:$A$14,A8,Замены!$C$5:$C$14) -> 0 | C8: =Ежемесячные!D18*(1+Вводные!B11)^INT((A8-1)/Вводные!$B$24) -> 0 | D8: =C8*Вводные!B14 -> 0 | E8: =SUM(B8,D8) -> 0 | F8: =SUM(E$5:E8) -> 0 | G8: =SUM(B8,C8) -> 0 | H8: =SUM(G$5:G8) -> 0 | I8: =IF(1+Вводные!$B$10>0,I7+E8/(1+Вводные!$B$10)^(A8/Вводные!$B$24),"") -> 0 | J8: =IF(1+Вводные!$B$10>0,J7+G8/(1+Вводные!$B$10)^(A8/Вводные!$B$24),"") -> 0 | K8: =Ежемесячные!G15*(1+Вводные!C11)^INT((A8-1)/Вводные!$B$24)+SUMIF(Замены!$A$5:$A$14,A8,Замены!$D$5:$D$14) -> 0 | L8: =Ежемесячные!G18*(1+Вводные!C11)^INT((A8-1)/Вводные!$B$24) -> 0 | M8: =L8*Вводные!C14 -> 0 | N8: =SUM(K8,M8) -> 0 | O8: =SUM(N$5:N8) -> 0 | P8: =SUM(K8,L8) -> 0 | Q8: =SUM(P$5:P8) -> 0 | R8: =IF(1+Вводные!$B$10>0,R7+N8/(1+Вводные!$B$10)^(A8/Вводные!$B$24),"") -> 0 | S8: =IF(1+Вводные!$B$10>0,S7+P8/(1+Вводные!$B$10)^(A8/Вводные!$B$24),"") -> 0 | T8: =A8*Вводные!B8 -> 3000 | U8: =A8*Вводные!C8 -> 3000
A9: =A8+1 -> 4 | B9: =Ежемесячные!D15*(1+Вводные!B11)^INT((A9-1)/Вводные!$B$24)+SUMIF(Замены!$A$5:$A$14,A9,Замены!$C$5:$C$14) -> 0 | C9: =Ежемесячные!D18*(1+Вводные!B11)^INT((A9-1)/Вводные!$B$24) -> 0 | D9: =C9*Вводные!B14 -> 0 | E9: =SUM(B9,D9) -> 0 | F9: =SUM(E$5:E9) -> 0 | G9: =SUM(B9,C9) -> 0 | H9: =SUM(G$5:G9) -> 0 | I9: =IF(1+Вводные!$B$10>0,I8+E9/(1+Вводные!$B$10)^(A9/Вводные!$B$24),"") -> 0 | J9: =IF(1+Вводные!$B$10>0,J8+G9/(1+Вводные!$B$10)^(A9/Вводные!$B$24),"") -> 0 | K9: =Ежемесячные!G15*(1+Вводные!C11)^INT((A9-1)/Вводные!$B$24)+SUMIF(Замены!$A$5:$A$14,A9,Замены!$D$5:$D$14) -> 0 | L9: =Ежемесячные!G18*(1+Вводные!C11)^INT((A9-1)/Вводные!$B$24) -> 0 | M9: =L9*Вводные!C14 -> 0 | N9: =SUM(K9,M9) -> 0 | O9: =SUM(N$5:N9) -> 0 | P9: =SUM(K9,L9) -> 0 | Q9: =SUM(P$5:P9) -> 0 | R9: =IF(1+Вводные!$B$10>0,R8+N9/(1+Вводные!$B$10)^(A9/Вводные!$B$24),"") -> 0 | S9: =IF(1+Вводные!$B$10>0,S8+P9/(1+Вводные!$B$10)^(A9/Вводные!$B$24),"") -> 0 | T9: =A9*Вводные!B8 -> 4000 | U9: =A9*Вводные!C8 -> 4000
A10: =A9+1 -> 5 | B10: =Ежемесячные!D15*(1+Вводные!B11)^INT((A10-1)/Вводные!$B$24)+SUMIF(Замены!$A$5:$A$14,A10,Замены!$C$5:$C$14) -> 0 | C10: =Ежемесячные!D18*(1+Вводные!B11)^INT((A10-1)/Вводные!$B$24) -> 0 | D10: =C10*Вводные!B14 -> 0 | E10: =SUM(B10,D10) -> 0 | F10: =SUM(E$5:E10) -> 0 | G10: =SUM(B10,C10) -> 0 | H10: =SUM(G$5:G10) -> 0 | I10: =IF(1+Вводные!$B$10>0,I9+E10/(1+Вводные!$B$10)^(A10/Вводные!$B$24),"") -> 0 | J10: =IF(1+Вводные!$B$10>0,J9+G10/(1+Вводные!$B$10)^(A10/Вводные!$B$24),"") -> 0 | K10: =Ежемесячные!G15*(1+Вводные!C11)^INT((A10-1)/Вводные!$B$24)+SUMIF(Замены!$A$5:$A$14,A10,Замены!$D$5:$D$14) -> 0 | L10: =Ежемесячные!G18*(1+Вводные!C11)^INT((A10-1)/Вводные!$B$24) -> 0 | M10: =L10*Вводные!C14 -> 0 | N10: =SUM(K10,M10) -> 0 | O10: =SUM(N$5:N10) -> 0 | P10: =SUM(K10,L10) -> 0 | Q10: =SUM(P$5:P10) -> 0 | R10: =IF(1+Вводные!$B$10>0,R9+N10/(1+Вводные!$B$10)^(A10/Вводные!$B$24),"") -> 0 | S10: =IF(1+Вводные!$B$10>0,S9+P10/(1+Вводные!$B$10)^(A10/Вводные!$B$24),"") -> 0 | T10: =A10*Вводные!B8 -> 5000 | U10: =A10*Вводные!C8 -> 5000
A11: =A10+1 -> 6 | B11: =Ежемесячные!D15*(1+Вводные!B11)^INT((A11-1)/Вводные!$B$24)+SUMIF(Замены!$A$5:$A$14,A11,Замены!$C$5:$C$14) -> 0 | C11: =Ежемесячные!D18*(1+Вводные!B11)^INT((A11-1)/Вводные!$B$24) -> 0 | D11: =C11*Вводные!B14 -> 0 | E11: =SUM(B11,D11) -> 0 | F11: =SUM(E$5:E11) -> 0 | G11: =SUM(B11,C11) -> 0 | H11: =SUM(G$5:G11) -> 0 | I11: =IF(1+Вводные!$B$10>0,I10+E11/(1+Вводные!$B$10)^(A11/Вводные!$B$24),"") -> 0 | J11: =IF(1+Вводные!$B$10>0,J10+G11/(1+Вводные!$B$10)^(A11/Вводные!$B$24),"") -> 0 | K11: =Ежемесячные!G15*(1+Вводные!C11)^INT((A11-1)/Вводные!$B$24)+SUMIF(Замены!$A$5:$A$14,A11,Замены!$D$5:$D$14) -> 0 | L11: =Ежемесячные!G18*(1+Вводные!C11)^INT((A11-1)/Вводные!$B$24) -> 0 | M11: =L11*Вводные!C14 -> 0 | N11: =SUM(K11,M11) -> 0 | O11: =SUM(N$5:N11) -> 0 | P11: =SUM(K11,L11) -> 0 | Q11: =SUM(P$5:P11) -> 0 | R11: =IF(1+Вводные!$B$10>0,R10+N11/(1+Вводные!$B$10)^(A11/Вводные!$B$24),"") -> 0 | S11: =IF(1+Вводные!$B$10>0,S10+P11/(1+Вводные!$B$10)^(A11/Вводные!$B$24),"") -> 0 | T11: =A11*Вводные!B8 -> 6000 | U11: =A11*Вводные!C8 -> 6000
A12: =A11+1 -> 7 | B12: =Ежемесячные!D15*(1+Вводные!B11)^INT((A12-1)/Вводные!$B$24)+SUMIF(Замены!$A$5:$A$14,A12,Замены!$C$5:$C$14) -> 0 | C12: =Ежемесячные!D18*(1+Вводные!B11)^INT((A12-1)/Вводные!$B$24) -> 0 | D12: =C12*Вводные!B14 -> 0 | E12: =SUM(B12,D12) -> 0 | F12: =SUM(E$5:E12) -> 0 | G12: =SUM(B12,C12) -> 0 | H12: =SUM(G$5:G12) -> 0 | I12: =IF(1+Вводные!$B$10>0,I11+E12/(1+Вводные!$B$10)^(A12/Вводные!$B$24),"") -> 0 | J12: =IF(1+Вводные!$B$10>0,J11+G12/(1+Вводные!$B$10)^(A12/Вводные!$B$24),"") -> 0 | K12: =Ежемесячные!G15*(1+Вводные!C11)^INT((A12-1)/Вводные!$B$24)+SUMIF(Замены!$A$5:$A$14,A12,Замены!$D$5:$D$14) -> 0 | L12: =Ежемесячные!G18*(1+Вводные!C11)^INT((A12-1)/Вводные!$B$24) -> 0 | M12: =L12*Вводные!C14 -> 0 | N12: =SUM(K12,M12) -> 0 | O12: =SUM(N$5:N12) -> 0 | P12: =SUM(K12,L12) -> 0 | Q12: =SUM(P$5:P12) -> 0 | R12: =IF(1+Вводные!$B$10>0,R11+N12/(1+Вводные!$B$10)^(A12/Вводные!$B$24),"") -> 0 | S12: =IF(1+Вводные!$B$10>0,S11+P12/(1+Вводные!$B$10)^(A12/Вводные!$B$24),"") -> 0 | T12: =A12*Вводные!B8 -> 7000 | U12: =A12*Вводные!C8 -> 7000
A13: =A12+1 -> 8 | B13: =Ежемесячные!D15*(1+Вводные!B11)^INT((A13-1)/Вводные!$B$24)+SUMIF(Замены!$A$5:$A$14,A13,Замены!$C$5:$C$14) -> 0 | C13: =Ежемесячные!D18*(1+Вводные!B11)^INT((A13-1)/Вводные!$B$24) -> 0 | D13: =C13*Вводные!B14 -> 0 | E13: =SUM(B13,D13) -> 0 | F13: =SUM(E$5:E13) -> 0 | G13: =SUM(B13,C13) -> 0 | H13: =SUM(G$5:G13) -> 0 | I13: =IF(1+Вводные!$B$10>0,I12+E13/(1+Вводные!$B$10)^(A13/Вводные!$B$24),"") -> 0 | J13: =IF(1+Вводные!$B$10>0,J12+G13/(1+Вводные!$B$10)^(A13/Вводные!$B$24),"") -> 0 | K13: =Ежемесячные!G15*(1+Вводные!C11)^INT((A13-1)/Вводные!$B$24)+SUMIF(Замены!$A$5:$A$14,A13,Замены!$D$5:$D$14) -> 0 | L13: =Ежемесячные!G18*(1+Вводные!C11)^INT((A13-1)/Вводные!$B$24) -> 0 | M13: =L13*Вводные!C14 -> 0 | N13: =SUM(K13,M13) -> 0 | O13: =SUM(N$5:N13) -> 0 | P13: =SUM(K13,L13) -> 0 | Q13: =SUM(P$5:P13) -> 0 | R13: =IF(1+Вводные!$B$10>0,R12+N13/(1+Вводные!$B$10)^(A13/Вводные!$B$24),"") -> 0 | S13: =IF(1+Вводные!$B$10>0,S12+P13/(1+Вводные!$B$10)^(A13/Вводные!$B$24),"") -> 0 | T13: =A13*Вводные!B8 -> 8000 | U13: =A13*Вводные!C8 -> 8000
A14: =A13+1 -> 9 | B14: =Ежемесячные!D15*(1+Вводные!B11)^INT((A14-1)/Вводные!$B$24)+SUMIF(Замены!$A$5:$A$14,A14,Замены!$C$5:$C$14) -> 0 | C14: =Ежемесячные!D18*(1+Вводные!B11)^INT((A14-1)/Вводные!$B$24) -> 0 | D14: =C14*Вводные!B14 -> 0 | E14: =SUM(B14,D14) -> 0 | F14: =SUM(E$5:E14) -> 0 | G14: =SUM(B14,C14) -> 0 | H14: =SUM(G$5:G14) -> 0 | I14: =IF(1+Вводные!$B$10>0,I13+E14/(1+Вводные!$B$10)^(A14/Вводные!$B$24),"") -> 0 | J14: =IF(1+Вводные!$B$10>0,J13+G14/(1+Вводные!$B$10)^(A14/Вводные!$B$24),"") -> 0 | K14: =Ежемесячные!G15*(1+Вводные!C11)^INT((A14-1)/Вводные!$B$24)+SUMIF(Замены!$A$5:$A$14,A14,Замены!$D$5:$D$14) -> 0 | L14: =Ежемесячные!G18*(1+Вводные!C11)^INT((A14-1)/Вводные!$B$24) -> 0 | M14: =L14*Вводные!C14 -> 0 | N14: =SUM(K14,M14) -> 0 | O14: =SUM(N$5:N14) -> 0 | P14: =SUM(K14,L14) -> 0 | Q14: =SUM(P$5:P14) -> 0 | R14: =IF(1+Вводные!$B$10>0,R13+N14/(1+Вводные!$B$10)^(A14/Вводные!$B$24),"") -> 0 | S14: =IF(1+Вводные!$B$10>0,S13+P14/(1+Вводные!$B$10)^(A14/Вводные!$B$24),"") -> 0 | T14: =A14*Вводные!B8 -> 9000 | U14: =A14*Вводные!C8 -> 9000
A15: =A14+1 -> 10 | B15: =Ежемесячные!D15*(1+Вводные!B11)^INT((A15-1)/Вводные!$B$24)+SUMIF(Замены!$A$5:$A$14,A15,Замены!$C$5:$C$14) -> 0 | C15: =Ежемесячные!D18*(1+Вводные!B11)^INT((A15-1)/Вводные!$B$24) -> 0 | D15: =C15*Вводные!B14 -> 0 | E15: =SUM(B15,D15) -> 0 | F15: =SUM(E$5:E15) -> 0 | G15: =SUM(B15,C15) -> 0 | H15: =SUM(G$5:G15) -> 0 | I15: =IF(1+Вводные!$B$10>0,I14+E15/(1+Вводные!$B$10)^(A15/Вводные!$B$24),"") -> 0 | J15: =IF(1+Вводные!$B$10>0,J14+G15/(1+Вводные!$B$10)^(A15/Вводные!$B$24),"") -> 0 | K15: =Ежемесячные!G15*(1+Вводные!C11)^INT((A15-1)/Вводные!$B$24)+SUMIF(Замены!$A$5:$A$14,A15,Замены!$D$5:$D$14) -> 0 | L15: =Ежемесячные!G18*(1+Вводные!C11)^INT((A15-1)/Вводные!$B$24) -> 0 | M15: =L15*Вводные!C14 -> 0 | N15: =SUM(K15,M15) -> 0 | O15: =SUM(N$5:N15) -> 0 | P15: =SUM(K15,L15) -> 0 | Q15: =SUM(P$5:P15) -> 0 | R15: =IF(1+Вводные!$B$10>0,R14+N15/(1+Вводные!$B$10)^(A15/Вводные!$B$24),"") -> 0 | S15: =IF(1+Вводные!$B$10>0,S14+P15/(1+Вводные!$B$10)^(A15/Вводные!$B$24),"") -> 0 | T15: =A15*Вводные!B8 -> 10000 | U15: =A15*Вводные!C8 -> 10000
A16: =A15+1 -> 11 | B16: =Ежемесячные!D15*(1+Вводные!B11)^INT((A16-1)/Вводные!$B$24)+SUMIF(Замены!$A$5:$A$14,A16,Замены!$C$5:$C$14) -> 0 | C16: =Ежемесячные!D18*(1+Вводные!B11)^INT((A16-1)/Вводные!$B$24) -> 0 | D16: =C16*Вводные!B14 -> 0 | E16: =SUM(B16,D16) -> 0 | F16: =SUM(E$5:E16) -> 0 | G16: =SUM(B16,C16) -> 0 | H16: =SUM(G$5:G16) -> 0 | I16: =IF(1+Вводные!$B$10>0,I15+E16/(1+Вводные!$B$10)^(A16/Вводные!$B$24),"") -> 0 | J16: =IF(1+Вводные!$B$10>0,J15+G16/(1+Вводные!$B$10)^(A16/Вводные!$B$24),"") -> 0 | K16: =Ежемесячные!G15*(1+Вводные!C11)^INT((A16-1)/Вводные!$B$24)+SUMIF(Замены!$A$5:$A$14,A16,Замены!$D$5:$D$14) -> 0 | L16: =Ежемесячные!G18*(1+Вводные!C11)^INT((A16-1)/Вводные!$B$24) -> 0 | M16: =L16*Вводные!C14 -> 0 | N16: =SUM(K16,M16) -> 0 | O16: =SUM(N$5:N16) -> 0 | P16: =SUM(K16,L16) -> 0 | Q16: =SUM(P$5:P16) -> 0 | R16: =IF(1+Вводные!$B$10>0,R15+N16/(1+Вводные!$B$10)^(A16/Вводные!$B$24),"") -> 0 | S16: =IF(1+Вводные!$B$10>0,S15+P16/(1+Вводные!$B$10)^(A16/Вводные!$B$24),"") -> 0 | T16: =A16*Вводные!B8 -> 11000 | U16: =A16*Вводные!C8 -> 11000
A17: =A16+1 -> 12 | B17: =Ежемесячные!D15*(1+Вводные!B11)^INT((A17-1)/Вводные!$B$24)+SUMIF(Замены!$A$5:$A$14,A17,Замены!$C$5:$C$14) -> 0 | C17: =Ежемесячные!D18*(1+Вводные!B11)^INT((A17-1)/Вводные!$B$24) -> 0 | D17: =C17*Вводные!B14 -> 0 | E17: =SUM(B17,D17) -> 0 | F17: =SUM(E$5:E17) -> 0 | G17: =SUM(B17,C17) -> 0 | H17: =SUM(G$5:G17) -> 0 | I17: =IF(1+Вводные!$B$10>0,I16+E17/(1+Вводные!$B$10)^(A17/Вводные!$B$24),"") -> 0 | J17: =IF(1+Вводные!$B$10>0,J16+G17/(1+Вводные!$B$10)^(A17/Вводные!$B$24),"") -> 0 | K17: =Ежемесячные!G15*(1+Вводные!C11)^INT((A17-1)/Вводные!$B$24)+SUMIF(Замены!$A$5:$A$14,A17,Замены!$D$5:$D$14) -> 0 | L17: =Ежемесячные!G18*(1+Вводные!C11)^INT((A17-1)/Вводные!$B$24) -> 0 | M17: =L17*Вводные!C14 -> 0 | N17: =SUM(K17,M17) -> 0 | O17: =SUM(N$5:N17) -> 0 | P17: =SUM(K17,L17) -> 0 | Q17: =SUM(P$5:P17) -> 0 | R17: =IF(1+Вводные!$B$10>0,R16+N17/(1+Вводные!$B$10)^(A17/Вводные!$B$24),"") -> 0 | S17: =IF(1+Вводные!$B$10>0,S16+P17/(1+Вводные!$B$10)^(A17/Вводные!$B$24),"") -> 0 | T17: =A17*Вводные!B8 -> 12000 | U17: =A17*Вводные!C8 -> 12000
A18: =A17+1 -> 13 | B18: =Ежемесячные!D15*(1+Вводные!B11)^INT((A18-1)/Вводные!$B$24)+SUMIF(Замены!$A$5:$A$14,A18,Замены!$C$5:$C$14) -> 0 | C18: =Ежемесячные!D18*(1+Вводные!B11)^INT((A18-1)/Вводные!$B$24) -> 0 | D18: =C18*Вводные!B14 -> 0 | E18: =SUM(B18,D18) -> 0 | F18: =SUM(E$5:E18) -> 0 | G18: =SUM(B18,C18) -> 0 | H18: =SUM(G$5:G18) -> 0 | I18: =IF(1+Вводные!$B$10>0,I17+E18/(1+Вводные!$B$10)^(A18/Вводные!$B$24),"") -> 0 | J18: =IF(1+Вводные!$B$10>0,J17+G18/(1+Вводные!$B$10)^(A18/Вводные!$B$24),"") -> 0 | K18: =Ежемесячные!G15*(1+Вводные!C11)^INT((A18-1)/Вводные!$B$24)+SUMIF(Замены!$A$5:$A$14,A18,Замены!$D$5:$D$14) -> 0 | L18: =Ежемесячные!G18*(1+Вводные!C11)^INT((A18-1)/Вводные!$B$24) -> 0 | M18: =L18*Вводные!C14 -> 0 | N18: =SUM(K18,M18) -> 0 | O18: =SUM(N$5:N18) -> 0 | P18: =SUM(K18,L18) -> 0 | Q18: =SUM(P$5:P18) -> 0 | R18: =IF(1+Вводные!$B$10>0,R17+N18/(1+Вводные!$B$10)^(A18/Вводные!$B$24),"") -> 0 | S18: =IF(1+Вводные!$B$10>0,S17+P18/(1+Вводные!$B$10)^(A18/Вводные!$B$24),"") -> 0 | T18: =A18*Вводные!B8 -> 13000 | U18: =A18*Вводные!C8 -> 13000
A19: =A18+1 -> 14 | B19: =Ежемесячные!D15*(1+Вводные!B11)^INT((A19-1)/Вводные!$B$24)+SUMIF(Замены!$A$5:$A$14,A19,Замены!$C$5:$C$14) -> 0 | C19: =Ежемесячные!D18*(1+Вводные!B11)^INT((A19-1)/Вводные!$B$24) -> 0 | D19: =C19*Вводные!B14 -> 0 | E19: =SUM(B19,D19) -> 0 | F19: =SUM(E$5:E19) -> 0 | G19: =SUM(B19,C19) -> 0 | H19: =SUM(G$5:G19) -> 0 | I19: =IF(1+Вводные!$B$10>0,I18+E19/(1+Вводные!$B$10)^(A19/Вводные!$B$24),"") -> 0 | J19: =IF(1+Вводные!$B$10>0,J18+G19/(1+Вводные!$B$10)^(A19/Вводные!$B$24),"") -> 0 | K19: =Ежемесячные!G15*(1+Вводные!C11)^INT((A19-1)/Вводные!$B$24)+SUMIF(Замены!$A$5:$A$14,A19,Замены!$D$5:$D$14) -> 0 | L19: =Ежемесячные!G18*(1+Вводные!C11)^INT((A19-1)/Вводные!$B$24) -> 0 | M19: =L19*Вводные!C14 -> 0 | N19: =SUM(K19,M19) -> 0 | O19: =SUM(N$5:N19) -> 0 | P19: =SUM(K19,L19) -> 0 | Q19: =SUM(P$5:P19) -> 0 | R19: =IF(1+Вводные!$B$10>0,R18+N19/(1+Вводные!$B$10)^(A19/Вводные!$B$24),"") -> 0 | S19: =IF(1+Вводные!$B$10>0,S18+P19/(1+Вводные!$B$10)^(A19/Вводные!$B$24),"") -> 0 | T19: =A19*Вводные!B8 -> 14000 | U19: =A19*Вводные!C8 -> 14000
A20: =A19+1 -> 15 | B20: =Ежемесячные!D15*(1+Вводные!B11)^INT((A20-1)/Вводные!$B$24)+SUMIF(Замены!$A$5:$A$14,A20,Замены!$C$5:$C$14) -> 0 | C20: =Ежемесячные!D18*(1+Вводные!B11)^INT((A20-1)/Вводные!$B$24) -> 0 | D20: =C20*Вводные!B14 -> 0 | E20: =SUM(B20,D20) -> 0 | F20: =SUM(E$5:E20) -> 0 | G20: =SUM(B20,C20) -> 0 | H20: =SUM(G$5:G20) -> 0 | I20: =IF(1+Вводные!$B$10>0,I19+E20/(1+Вводные!$B$10)^(A20/Вводные!$B$24),"") -> 0 | J20: =IF(1+Вводные!$B$10>0,J19+G20/(1+Вводные!$B$10)^(A20/Вводные!$B$24),"") -> 0 | K20: =Ежемесячные!G15*(1+Вводные!C11)^INT((A20-1)/Вводные!$B$24)+SUMIF(Замены!$A$5:$A$14,A20,Замены!$D$5:$D$14) -> 0 | L20: =Ежемесячные!G18*(1+Вводные!C11)^INT((A20-1)/Вводные!$B$24) -> 0 | M20: =L20*Вводные!C14 -> 0 | N20: =SUM(K20,M20) -> 0 | O20: =SUM(N$5:N20) -> 0 | P20: =SUM(K20,L20) -> 0 | Q20: =SUM(P$5:P20) -> 0 | R20: =IF(1+Вводные!$B$10>0,R19+N20/(1+Вводные!$B$10)^(A20/Вводные!$B$24),"") -> 0 | S20: =IF(1+Вводные!$B$10>0,S19+P20/(1+Вводные!$B$10)^(A20/Вводные!$B$24),"") -> 0 | T20: =A20*Вводные!B8 -> 15000 | U20: =A20*Вводные!C8 -> 15000
A21: =A20+1 -> 16 | B21: =Ежемесячные!D15*(1+Вводные!B11)^INT((A21-1)/Вводные!$B$24)+SUMIF(Замены!$A$5:$A$14,A21,Замены!$C$5:$C$14) -> 0 | C21: =Ежемесячные!D18*(1+Вводные!B11)^INT((A21-1)/Вводные!$B$24) -> 0 | D21: =C21*Вводные!B14 -> 0 | E21: =SUM(B21,D21) -> 0 | F21: =SUM(E$5:E21) -> 0 | G21: =SUM(B21,C21) -> 0 | H21: =SUM(G$5:G21) -> 0 | I21: =IF(1+Вводные!$B$10>0,I20+E21/(1+Вводные!$B$10)^(A21/Вводные!$B$24),"") -> 0 | J21: =IF(1+Вводные!$B$10>0,J20+G21/(1+Вводные!$B$10)^(A21/Вводные!$B$24),"") -> 0 | K21: =Ежемесячные!G15*(1+Вводные!C11)^INT((A21-1)/Вводные!$B$24)+SUMIF(Замены!$A$5:$A$14,A21,Замены!$D$5:$D$14) -> 0 | L21: =Ежемесячные!G18*(1+Вводные!C11)^INT((A21-1)/Вводные!$B$24) -> 0 | M21: =L21*Вводные!C14 -> 0 | N21: =SUM(K21,M21) -> 0 | O21: =SUM(N$5:N21) -> 0 | P21: =SUM(K21,L21) -> 0 | Q21: =SUM(P$5:P21) -> 0 | R21: =IF(1+Вводные!$B$10>0,R20+N21/(1+Вводные!$B$10)^(A21/Вводные!$B$24),"") -> 0 | S21: =IF(1+Вводные!$B$10>0,S20+P21/(1+Вводные!$B$10)^(A21/Вводные!$B$24),"") -> 0 | T21: =A21*Вводные!B8 -> 16000 | U21: =A21*Вводные!C8 -> 16000
A22: =A21+1 -> 17 | B22: =Ежемесячные!D15*(1+Вводные!B11)^INT((A22-1)/Вводные!$B$24)+SUMIF(Замены!$A$5:$A$14,A22,Замены!$C$5:$C$14) -> 0 | C22: =Ежемесячные!D18*(1+Вводные!B11)^INT((A22-1)/Вводные!$B$24) -> 0 | D22: =C22*Вводные!B14 -> 0 | E22: =SUM(B22,D22) -> 0 | F22: =SUM(E$5:E22) -> 0 | G22: =SUM(B22,C22) -> 0 | H22: =SUM(G$5:G22) -> 0 | I22: =IF(1+Вводные!$B$10>0,I21+E22/(1+Вводные!$B$10)^(A22/Вводные!$B$24),"") -> 0 | J22: =IF(1+Вводные!$B$10>0,J21+G22/(1+Вводные!$B$10)^(A22/Вводные!$B$24),"") -> 0 | K22: =Ежемесячные!G15*(1+Вводные!C11)^INT((A22-1)/Вводные!$B$24)+SUMIF(Замены!$A$5:$A$14,A22,Замены!$D$5:$D$14) -> 0 | L22: =Ежемесячные!G18*(1+Вводные!C11)^INT((A22-1)/Вводные!$B$24) -> 0 | M22: =L22*Вводные!C14 -> 0 | N22: =SUM(K22,M22) -> 0 | O22: =SUM(N$5:N22) -> 0 | P22: =SUM(K22,L22) -> 0 | Q22: =SUM(P$5:P22) -> 0 | R22: =IF(1+Вводные!$B$10>0,R21+N22/(1+Вводные!$B$10)^(A22/Вводные!$B$24),"") -> 0 | S22: =IF(1+Вводные!$B$10>0,S21+P22/(1+Вводные!$B$10)^(A22/Вводные!$B$24),"") -> 0 | T22: =A22*Вводные!B8 -> 17000 | U22: =A22*Вводные!C8 -> 17000
A23: =A22+1 -> 18 | B23: =Ежемесячные!D15*(1+Вводные!B11)^INT((A23-1)/Вводные!$B$24)+SUMIF(Замены!$A$5:$A$14,A23,Замены!$C$5:$C$14) -> 0 | C23: =Ежемесячные!D18*(1+Вводные!B11)^INT((A23-1)/Вводные!$B$24) -> 0 | D23: =C23*Вводные!B14 -> 0 | E23: =SUM(B23,D23) -> 0 | F23: =SUM(E$5:E23) -> 0 | G23: =SUM(B23,C23) -> 0 | H23: =SUM(G$5:G23) -> 0 | I23: =IF(1+Вводные!$B$10>0,I22+E23/(1+Вводные!$B$10)^(A23/Вводные!$B$24),"") -> 0 | J23: =IF(1+Вводные!$B$10>0,J22+G23/(1+Вводные!$B$10)^(A23/Вводные!$B$24),"") -> 0 | K23: =Ежемесячные!G15*(1+Вводные!C11)^INT((A23-1)/Вводные!$B$24)+SUMIF(Замены!$A$5:$A$14,A23,Замены!$D$5:$D$14) -> 0 | L23: =Ежемесячные!G18*(1+Вводные!C11)^INT((A23-1)/Вводные!$B$24) -> 0 | M23: =L23*Вводные!C14 -> 0 | N23: =SUM(K23,M23) -> 0 | O23: =SUM(N$5:N23) -> 0 | P23: =SUM(K23,L23) -> 0 | Q23: =SUM(P$5:P23) -> 0 | R23: =IF(1+Вводные!$B$10>0,R22+N23/(1+Вводные!$B$10)^(A23/Вводные!$B$24),"") -> 0 | S23: =IF(1+Вводные!$B$10>0,S22+P23/(1+Вводные!$B$10)^(A23/Вводные!$B$24),"") -> 0 | T23: =A23*Вводные!B8 -> 18000 | U23: =A23*Вводные!C8 -> 18000
A24: =A23+1 -> 19 | B24: =Ежемесячные!D15*(1+Вводные!B11)^INT((A24-1)/Вводные!$B$24)+SUMIF(Замены!$A$5:$A$14,A24,Замены!$C$5:$C$14) -> 0 | C24: =Ежемесячные!D18*(1+Вводные!B11)^INT((A24-1)/Вводные!$B$24) -> 0 | D24: =C24*Вводные!B14 -> 0 | E24: =SUM(B24,D24) -> 0 | F24: =SUM(E$5:E24) -> 0 | G24: =SUM(B24,C24) -> 0 | H24: =SUM(G$5:G24) -> 0 | I24: =IF(1+Вводные!$B$10>0,I23+E24/(1+Вводные!$B$10)^(A24/Вводные!$B$24),"") -> 0 | J24: =IF(1+Вводные!$B$10>0,J23+G24/(1+Вводные!$B$10)^(A24/Вводные!$B$24),"") -> 0 | K24: =Ежемесячные!G15*(1+Вводные!C11)^INT((A24-1)/Вводные!$B$24)+SUMIF(Замены!$A$5:$A$14,A24,Замены!$D$5:$D$14) -> 0 | L24: =Ежемесячные!G18*(1+Вводные!C11)^INT((A24-1)/Вводные!$B$24) -> 0 | M24: =L24*Вводные!C14 -> 0 | N24: =SUM(K24,M24) -> 0 | O24: =SUM(N$5:N24) -> 0 | P24: =SUM(K24,L24) -> 0 | Q24: =SUM(P$5:P24) -> 0 | R24: =IF(1+Вводные!$B$10>0,R23+N24/(1+Вводные!$B$10)^(A24/Вводные!$B$24),"") -> 0 | S24: =IF(1+Вводные!$B$10>0,S23+P24/(1+Вводные!$B$10)^(A24/Вводные!$B$24),"") -> 0 | T24: =A24*Вводные!B8 -> 19000 | U24: =A24*Вводные!C8 -> 19000
A25: =A24+1 -> 20 | B25: =Ежемесячные!D15*(1+Вводные!B11)^INT((A25-1)/Вводные!$B$24)+SUMIF(Замены!$A$5:$A$14,A25,Замены!$C$5:$C$14) -> 0 | C25: =Ежемесячные!D18*(1+Вводные!B11)^INT((A25-1)/Вводные!$B$24) -> 0 | D25: =C25*Вводные!B14 -> 0 | E25: =SUM(B25,D25) -> 0 | F25: =SUM(E$5:E25) -> 0 | G25: =SUM(B25,C25) -> 0 | H25: =SUM(G$5:G25) -> 0 | I25: =IF(1+Вводные!$B$10>0,I24+E25/(1+Вводные!$B$10)^(A25/Вводные!$B$24),"") -> 0 | J25: =IF(1+Вводные!$B$10>0,J24+G25/(1+Вводные!$B$10)^(A25/Вводные!$B$24),"") -> 0 | K25: =Ежемесячные!G15*(1+Вводные!C11)^INT((A25-1)/Вводные!$B$24)+SUMIF(Замены!$A$5:$A$14,A25,Замены!$D$5:$D$14) -> 0 | L25: =Ежемесячные!G18*(1+Вводные!C11)^INT((A25-1)/Вводные!$B$24) -> 0 | M25: =L25*Вводные!C14 -> 0 | N25: =SUM(K25,M25) -> 0 | O25: =SUM(N$5:N25) -> 0 | P25: =SUM(K25,L25) -> 0 | Q25: =SUM(P$5:P25) -> 0 | R25: =IF(1+Вводные!$B$10>0,R24+N25/(1+Вводные!$B$10)^(A25/Вводные!$B$24),"") -> 0 | S25: =IF(1+Вводные!$B$10>0,S24+P25/(1+Вводные!$B$10)^(A25/Вводные!$B$24),"") -> 0 | T25: =A25*Вводные!B8 -> 20000 | U25: =A25*Вводные!C8 -> 20000
A26: =A25+1 -> 21 | B26: =Ежемесячные!D15*(1+Вводные!B11)^INT((A26-1)/Вводные!$B$24)+SUMIF(Замены!$A$5:$A$14,A26,Замены!$C$5:$C$14) -> 0 | C26: =Ежемесячные!D18*(1+Вводные!B11)^INT((A26-1)/Вводные!$B$24) -> 0 | D26: =C26*Вводные!B14 -> 0 | E26: =SUM(B26,D26) -> 0 | F26: =SUM(E$5:E26) -> 0 | G26: =SUM(B26,C26) -> 0 | H26: =SUM(G$5:G26) -> 0 | I26: =IF(1+Вводные!$B$10>0,I25+E26/(1+Вводные!$B$10)^(A26/Вводные!$B$24),"") -> 0 | J26: =IF(1+Вводные!$B$10>0,J25+G26/(1+Вводные!$B$10)^(A26/Вводные!$B$24),"") -> 0 | K26: =Ежемесячные!G15*(1+Вводные!C11)^INT((A26-1)/Вводные!$B$24)+SUMIF(Замены!$A$5:$A$14,A26,Замены!$D$5:$D$14) -> 0 | L26: =Ежемесячные!G18*(1+Вводные!C11)^INT((A26-1)/Вводные!$B$24) -> 0 | M26: =L26*Вводные!C14 -> 0 | N26: =SUM(K26,M26) -> 0 | O26: =SUM(N$5:N26) -> 0 | P26: =SUM(K26,L26) -> 0 | Q26: =SUM(P$5:P26) -> 0 | R26: =IF(1+Вводные!$B$10>0,R25+N26/(1+Вводные!$B$10)^(A26/Вводные!$B$24),"") -> 0 | S26: =IF(1+Вводные!$B$10>0,S25+P26/(1+Вводные!$B$10)^(A26/Вводные!$B$24),"") -> 0 | T26: =A26*Вводные!B8 -> 21000 | U26: =A26*Вводные!C8 -> 21000
A27: =A26+1 -> 22 | B27: =Ежемесячные!D15*(1+Вводные!B11)^INT((A27-1)/Вводные!$B$24)+SUMIF(Замены!$A$5:$A$14,A27,Замены!$C$5:$C$14) -> 0 | C27: =Ежемесячные!D18*(1+Вводные!B11)^INT((A27-1)/Вводные!$B$24) -> 0 | D27: =C27*Вводные!B14 -> 0 | E27: =SUM(B27,D27) -> 0 | F27: =SUM(E$5:E27) -> 0 | G27: =SUM(B27,C27) -> 0 | H27: =SUM(G$5:G27) -> 0 | I27: =IF(1+Вводные!$B$10>0,I26+E27/(1+Вводные!$B$10)^(A27/Вводные!$B$24),"") -> 0 | J27: =IF(1+Вводные!$B$10>0,J26+G27/(1+Вводные!$B$10)^(A27/Вводные!$B$24),"") -> 0 | K27: =Ежемесячные!G15*(1+Вводные!C11)^INT((A27-1)/Вводные!$B$24)+SUMIF(Замены!$A$5:$A$14,A27,Замены!$D$5:$D$14) -> 0 | L27: =Ежемесячные!G18*(1+Вводные!C11)^INT((A27-1)/Вводные!$B$24) -> 0 | M27: =L27*Вводные!C14 -> 0 | N27: =SUM(K27,M27) -> 0 | O27: =SUM(N$5:N27) -> 0 | P27: =SUM(K27,L27) -> 0 | Q27: =SUM(P$5:P27) -> 0 | R27: =IF(1+Вводные!$B$10>0,R26+N27/(1+Вводные!$B$10)^(A27/Вводные!$B$24),"") -> 0 | S27: =IF(1+Вводные!$B$10>0,S26+P27/(1+Вводные!$B$10)^(A27/Вводные!$B$24),"") -> 0 | T27: =A27*Вводные!B8 -> 22000 | U27: =A27*Вводные!C8 -> 22000
A28: =A27+1 -> 23 | B28: =Ежемесячные!D15*(1+Вводные!B11)^INT((A28-1)/Вводные!$B$24)+SUMIF(Замены!$A$5:$A$14,A28,Замены!$C$5:$C$14) -> 0 | C28: =Ежемесячные!D18*(1+Вводные!B11)^INT((A28-1)/Вводные!$B$24) -> 0 | D28: =C28*Вводные!B14 -> 0 | E28: =SUM(B28,D28) -> 0 | F28: =SUM(E$5:E28) -> 0 | G28: =SUM(B28,C28) -> 0 | H28: =SUM(G$5:G28) -> 0 | I28: =IF(1+Вводные!$B$10>0,I27+E28/(1+Вводные!$B$10)^(A28/Вводные!$B$24),"") -> 0 | J28: =IF(1+Вводные!$B$10>0,J27+G28/(1+Вводные!$B$10)^(A28/Вводные!$B$24),"") -> 0 | K28: =Ежемесячные!G15*(1+Вводные!C11)^INT((A28-1)/Вводные!$B$24)+SUMIF(Замены!$A$5:$A$14,A28,Замены!$D$5:$D$14) -> 0 | L28: =Ежемесячные!G18*(1+Вводные!C11)^INT((A28-1)/Вводные!$B$24) -> 0 | M28: =L28*Вводные!C14 -> 0 | N28: =SUM(K28,M28) -> 0 | O28: =SUM(N$5:N28) -> 0 | P28: =SUM(K28,L28) -> 0 | Q28: =SUM(P$5:P28) -> 0 | R28: =IF(1+Вводные!$B$10>0,R27+N28/(1+Вводные!$B$10)^(A28/Вводные!$B$24),"") -> 0 | S28: =IF(1+Вводные!$B$10>0,S27+P28/(1+Вводные!$B$10)^(A28/Вводные!$B$24),"") -> 0 | T28: =A28*Вводные!B8 -> 23000 | U28: =A28*Вводные!C8 -> 23000
A29: =A28+1 -> 24 | B29: =Ежемесячные!D15*(1+Вводные!B11)^INT((A29-1)/Вводные!$B$24)+SUMIF(Замены!$A$5:$A$14,A29,Замены!$C$5:$C$14) -> 0 | C29: =Ежемесячные!D18*(1+Вводные!B11)^INT((A29-1)/Вводные!$B$24) -> 0 | D29: =C29*Вводные!B14 -> 0 | E29: =SUM(B29,D29) -> 0 | F29: =SUM(E$5:E29) -> 0 | G29: =SUM(B29,C29) -> 0 | H29: =SUM(G$5:G29) -> 0 | I29: =IF(1+Вводные!$B$10>0,I28+E29/(1+Вводные!$B$10)^(A29/Вводные!$B$24),"") -> 0 | J29: =IF(1+Вводные!$B$10>0,J28+G29/(1+Вводные!$B$10)^(A29/Вводные!$B$24),"") -> 0 | K29: =Ежемесячные!G15*(1+Вводные!C11)^INT((A29-1)/Вводные!$B$24)+SUMIF(Замены!$A$5:$A$14,A29,Замены!$D$5:$D$14) -> 0 | L29: =Ежемесячные!G18*(1+Вводные!C11)^INT((A29-1)/Вводные!$B$24) -> 0 | M29: =L29*Вводные!C14 -> 0 | N29: =SUM(K29,M29) -> 0 | O29: =SUM(N$5:N29) -> 0 | P29: =SUM(K29,L29) -> 0 | Q29: =SUM(P$5:P29) -> 0 | R29: =IF(1+Вводные!$B$10>0,R28+N29/(1+Вводные!$B$10)^(A29/Вводные!$B$24),"") -> 0 | S29: =IF(1+Вводные!$B$10>0,S28+P29/(1+Вводные!$B$10)^(A29/Вводные!$B$24),"") -> 0 | T29: =A29*Вводные!B8 -> 24000 | U29: =A29*Вводные!C8 -> 24000
A30: =A29+1 -> 25 | B30: =Ежемесячные!D15*(1+Вводные!B11)^INT((A30-1)/Вводные!$B$24)+SUMIF(Замены!$A$5:$A$14,A30,Замены!$C$5:$C$14) -> 0 | C30: =Ежемесячные!D18*(1+Вводные!B11)^INT((A30-1)/Вводные!$B$24) -> 0 | D30: =C30*Вводные!B14 -> 0 | E30: =SUM(B30,D30) -> 0 | F30: =SUM(E$5:E30) -> 0 | G30: =SUM(B30,C30) -> 0 | H30: =SUM(G$5:G30) -> 0 | I30: =IF(1+Вводные!$B$10>0,I29+E30/(1+Вводные!$B$10)^(A30/Вводные!$B$24),"") -> 0 | J30: =IF(1+Вводные!$B$10>0,J29+G30/(1+Вводные!$B$10)^(A30/Вводные!$B$24),"") -> 0 | K30: =Ежемесячные!G15*(1+Вводные!C11)^INT((A30-1)/Вводные!$B$24)+SUMIF(Замены!$A$5:$A$14,A30,Замены!$D$5:$D$14) -> 0 | L30: =Ежемесячные!G18*(1+Вводные!C11)^INT((A30-1)/Вводные!$B$24) -> 0 | M30: =L30*Вводные!C14 -> 0 | N30: =SUM(K30,M30) -> 0 | O30: =SUM(N$5:N30) -> 0 | P30: =SUM(K30,L30) -> 0 | Q30: =SUM(P$5:P30) -> 0 | R30: =IF(1+Вводные!$B$10>0,R29+N30/(1+Вводные!$B$10)^(A30/Вводные!$B$24),"") -> 0 | S30: =IF(1+Вводные!$B$10>0,S29+P30/(1+Вводные!$B$10)^(A30/Вводные!$B$24),"") -> 0 | T30: =A30*Вводные!B8 -> 25000 | U30: =A30*Вводные!C8 -> 25000
A31: =A30+1 -> 26 | B31: =Ежемесячные!D15*(1+Вводные!B11)^INT((A31-1)/Вводные!$B$24)+SUMIF(Замены!$A$5:$A$14,A31,Замены!$C$5:$C$14) -> 0 | C31: =Ежемесячные!D18*(1+Вводные!B11)^INT((A31-1)/Вводные!$B$24) -> 0 | D31: =C31*Вводные!B14 -> 0 | E31: =SUM(B31,D31) -> 0 | F31: =SUM(E$5:E31) -> 0 | G31: =SUM(B31,C31) -> 0 | H31: =SUM(G$5:G31) -> 0 | I31: =IF(1+Вводные!$B$10>0,I30+E31/(1+Вводные!$B$10)^(A31/Вводные!$B$24),"") -> 0 | J31: =IF(1+Вводные!$B$10>0,J30+G31/(1+Вводные!$B$10)^(A31/Вводные!$B$24),"") -> 0 | K31: =Ежемесячные!G15*(1+Вводные!C11)^INT((A31-1)/Вводные!$B$24)+SUMIF(Замены!$A$5:$A$14,A31,Замены!$D$5:$D$14) -> 0 | L31: =Ежемесячные!G18*(1+Вводные!C11)^INT((A31-1)/Вводные!$B$24) -> 0 | M31: =L31*Вводные!C14 -> 0 | N31: =SUM(K31,M31) -> 0 | O31: =SUM(N$5:N31) -> 0 | P31: =SUM(K31,L31) -> 0 | Q31: =SUM(P$5:P31) -> 0 | R31: =IF(1+Вводные!$B$10>0,R30+N31/(1+Вводные!$B$10)^(A31/Вводные!$B$24),"") -> 0 | S31: =IF(1+Вводные!$B$10>0,S30+P31/(1+Вводные!$B$10)^(A31/Вводные!$B$24),"") -> 0 | T31: =A31*Вводные!B8 -> 26000 | U31: =A31*Вводные!C8 -> 26000
A32: =A31+1 -> 27 | B32: =Ежемесячные!D15*(1+Вводные!B11)^INT((A32-1)/Вводные!$B$24)+SUMIF(Замены!$A$5:$A$14,A32,Замены!$C$5:$C$14) -> 0 | C32: =Ежемесячные!D18*(1+Вводные!B11)^INT((A32-1)/Вводные!$B$24) -> 0 | D32: =C32*Вводные!B14 -> 0 | E32: =SUM(B32,D32) -> 0 | F32: =SUM(E$5:E32) -> 0 | G32: =SUM(B32,C32) -> 0 | H32: =SUM(G$5:G32) -> 0 | I32: =IF(1+Вводные!$B$10>0,I31+E32/(1+Вводные!$B$10)^(A32/Вводные!$B$24),"") -> 0 | J32: =IF(1+Вводные!$B$10>0,J31+G32/(1+Вводные!$B$10)^(A32/Вводные!$B$24),"") -> 0 | K32: =Ежемесячные!G15*(1+Вводные!C11)^INT((A32-1)/Вводные!$B$24)+SUMIF(Замены!$A$5:$A$14,A32,Замены!$D$5:$D$14) -> 0 | L32: =Ежемесячные!G18*(1+Вводные!C11)^INT((A32-1)/Вводные!$B$24) -> 0 | M32: =L32*Вводные!C14 -> 0 | N32: =SUM(K32,M32) -> 0 | O32: =SUM(N$5:N32) -> 0 | P32: =SUM(K32,L32) -> 0 | Q32: =SUM(P$5:P32) -> 0 | R32: =IF(1+Вводные!$B$10>0,R31+N32/(1+Вводные!$B$10)^(A32/Вводные!$B$24),"") -> 0 | S32: =IF(1+Вводные!$B$10>0,S31+P32/(1+Вводные!$B$10)^(A32/Вводные!$B$24),"") -> 0 | T32: =A32*Вводные!B8 -> 27000 | U32: =A32*Вводные!C8 -> 27000
A33: =A32+1 -> 28 | B33: =Ежемесячные!D15*(1+Вводные!B11)^INT((A33-1)/Вводные!$B$24)+SUMIF(Замены!$A$5:$A$14,A33,Замены!$C$5:$C$14) -> 0 | C33: =Ежемесячные!D18*(1+Вводные!B11)^INT((A33-1)/Вводные!$B$24) -> 0 | D33: =C33*Вводные!B14 -> 0 | E33: =SUM(B33,D33) -> 0 | F33: =SUM(E$5:E33) -> 0 | G33: =SUM(B33,C33) -> 0 | H33: =SUM(G$5:G33) -> 0 | I33: =IF(1+Вводные!$B$10>0,I32+E33/(1+Вводные!$B$10)^(A33/Вводные!$B$24),"") -> 0 | J33: =IF(1+Вводные!$B$10>0,J32+G33/(1+Вводные!$B$10)^(A33/Вводные!$B$24),"") -> 0 | K33: =Ежемесячные!G15*(1+Вводные!C11)^INT((A33-1)/Вводные!$B$24)+SUMIF(Замены!$A$5:$A$14,A33,Замены!$D$5:$D$14) -> 0 | L33: =Ежемесячные!G18*(1+Вводные!C11)^INT((A33-1)/Вводные!$B$24) -> 0 | M33: =L33*Вводные!C14 -> 0 | N33: =SUM(K33,M33) -> 0 | O33: =SUM(N$5:N33) -> 0 | P33: =SUM(K33,L33) -> 0 | Q33: =SUM(P$5:P33) -> 0 | R33: =IF(1+Вводные!$B$10>0,R32+N33/(1+Вводные!$B$10)^(A33/Вводные!$B$24),"") -> 0 | S33: =IF(1+Вводные!$B$10>0,S32+P33/(1+Вводные!$B$10)^(A33/Вводные!$B$24),"") -> 0 | T33: =A33*Вводные!B8 -> 28000 | U33: =A33*Вводные!C8 -> 28000
A34: =A33+1 -> 29 | B34: =Ежемесячные!D15*(1+Вводные!B11)^INT((A34-1)/Вводные!$B$24)+SUMIF(Замены!$A$5:$A$14,A34,Замены!$C$5:$C$14) -> 0 | C34: =Ежемесячные!D18*(1+Вводные!B11)^INT((A34-1)/Вводные!$B$24) -> 0 | D34: =C34*Вводные!B14 -> 0 | E34: =SUM(B34,D34) -> 0 | F34: =SUM(E$5:E34) -> 0 | G34: =SUM(B34,C34) -> 0 | H34: =SUM(G$5:G34) -> 0 | I34: =IF(1+Вводные!$B$10>0,I33+E34/(1+Вводные!$B$10)^(A34/Вводные!$B$24),"") -> 0 | J34: =IF(1+Вводные!$B$10>0,J33+G34/(1+Вводные!$B$10)^(A34/Вводные!$B$24),"") -> 0 | K34: =Ежемесячные!G15*(1+Вводные!C11)^INT((A34-1)/Вводные!$B$24)+SUMIF(Замены!$A$5:$A$14,A34,Замены!$D$5:$D$14) -> 0 | L34: =Ежемесячные!G18*(1+Вводные!C11)^INT((A34-1)/Вводные!$B$24) -> 0 | M34: =L34*Вводные!C14 -> 0 | N34: =SUM(K34,M34) -> 0 | O34: =SUM(N$5:N34) -> 0 | P34: =SUM(K34,L34) -> 0 | Q34: =SUM(P$5:P34) -> 0 | R34: =IF(1+Вводные!$B$10>0,R33+N34/(1+Вводные!$B$10)^(A34/Вводные!$B$24),"") -> 0 | S34: =IF(1+Вводные!$B$10>0,S33+P34/(1+Вводные!$B$10)^(A34/Вводные!$B$24),"") -> 0 | T34: =A34*Вводные!B8 -> 29000 | U34: =A34*Вводные!C8 -> 29000
A35: =A34+1 -> 30 | B35: =Ежемесячные!D15*(1+Вводные!B11)^INT((A35-1)/Вводные!$B$24)+SUMIF(Замены!$A$5:$A$14,A35,Замены!$C$5:$C$14) -> 0 | C35: =Ежемесячные!D18*(1+Вводные!B11)^INT((A35-1)/Вводные!$B$24) -> 0 | D35: =C35*Вводные!B14 -> 0 | E35: =SUM(B35,D35) -> 0 | F35: =SUM(E$5:E35) -> 0 | G35: =SUM(B35,C35) -> 0 | H35: =SUM(G$5:G35) -> 0 | I35: =IF(1+Вводные!$B$10>0,I34+E35/(1+Вводные!$B$10)^(A35/Вводные!$B$24),"") -> 0 | J35: =IF(1+Вводные!$B$10>0,J34+G35/(1+Вводные!$B$10)^(A35/Вводные!$B$24),"") -> 0 | K35: =Ежемесячные!G15*(1+Вводные!C11)^INT((A35-1)/Вводные!$B$24)+SUMIF(Замены!$A$5:$A$14,A35,Замены!$D$5:$D$14) -> 0 | L35: =Ежемесячные!G18*(1+Вводные!C11)^INT((A35-1)/Вводные!$B$24) -> 0 | M35: =L35*Вводные!C14 -> 0 | N35: =SUM(K35,M35) -> 0 | O35: =SUM(N$5:N35) -> 0 | P35: =SUM(K35,L35) -> 0 | Q35: =SUM(P$5:P35) -> 0 | R35: =IF(1+Вводные!$B$10>0,R34+N35/(1+Вводные!$B$10)^(A35/Вводные!$B$24),"") -> 0 | S35: =IF(1+Вводные!$B$10>0,S34+P35/(1+Вводные!$B$10)^(A35/Вводные!$B$24),"") -> 0 | T35: =A35*Вводные!B8 -> 30000 | U35: =A35*Вводные!C8 -> 30000
A36: =A35+1 -> 31 | B36: =Ежемесячные!D15*(1+Вводные!B11)^INT((A36-1)/Вводные!$B$24)+SUMIF(Замены!$A$5:$A$14,A36,Замены!$C$5:$C$14) -> 0 | C36: =Ежемесячные!D18*(1+Вводные!B11)^INT((A36-1)/Вводные!$B$24) -> 0 | D36: =C36*Вводные!B14 -> 0 | E36: =SUM(B36,D36) -> 0 | F36: =SUM(E$5:E36) -> 0 | G36: =SUM(B36,C36) -> 0 | H36: =SUM(G$5:G36) -> 0 | I36: =IF(1+Вводные!$B$10>0,I35+E36/(1+Вводные!$B$10)^(A36/Вводные!$B$24),"") -> 0 | J36: =IF(1+Вводные!$B$10>0,J35+G36/(1+Вводные!$B$10)^(A36/Вводные!$B$24),"") -> 0 | K36: =Ежемесячные!G15*(1+Вводные!C11)^INT((A36-1)/Вводные!$B$24)+SUMIF(Замены!$A$5:$A$14,A36,Замены!$D$5:$D$14) -> 0 | L36: =Ежемесячные!G18*(1+Вводные!C11)^INT((A36-1)/Вводные!$B$24) -> 0 | M36: =L36*Вводные!C14 -> 0 | N36: =SUM(K36,M36) -> 0 | O36: =SUM(N$5:N36) -> 0 | P36: =SUM(K36,L36) -> 0 | Q36: =SUM(P$5:P36) -> 0 | R36: =IF(1+Вводные!$B$10>0,R35+N36/(1+Вводные!$B$10)^(A36/Вводные!$B$24),"") -> 0 | S36: =IF(1+Вводные!$B$10>0,S35+P36/(1+Вводные!$B$10)^(A36/Вводные!$B$24),"") -> 0 | T36: =A36*Вводные!B8 -> 31000 | U36: =A36*Вводные!C8 -> 31000
A37: =A36+1 -> 32 | B37: =Ежемесячные!D15*(1+Вводные!B11)^INT((A37-1)/Вводные!$B$24)+SUMIF(Замены!$A$5:$A$14,A37,Замены!$C$5:$C$14) -> 0 | C37: =Ежемесячные!D18*(1+Вводные!B11)^INT((A37-1)/Вводные!$B$24) -> 0 | D37: =C37*Вводные!B14 -> 0 | E37: =SUM(B37,D37) -> 0 | F37: =SUM(E$5:E37) -> 0 | G37: =SUM(B37,C37) -> 0 | H37: =SUM(G$5:G37) -> 0 | I37: =IF(1+Вводные!$B$10>0,I36+E37/(1+Вводные!$B$10)^(A37/Вводные!$B$24),"") -> 0 | J37: =IF(1+Вводные!$B$10>0,J36+G37/(1+Вводные!$B$10)^(A37/Вводные!$B$24),"") -> 0 | K37: =Ежемесячные!G15*(1+Вводные!C11)^INT((A37-1)/Вводные!$B$24)+SUMIF(Замены!$A$5:$A$14,A37,Замены!$D$5:$D$14) -> 0 | L37: =Ежемесячные!G18*(1+Вводные!C11)^INT((A37-1)/Вводные!$B$24) -> 0 | M37: =L37*Вводные!C14 -> 0 | N37: =SUM(K37,M37) -> 0 | O37: =SUM(N$5:N37) -> 0 | P37: =SUM(K37,L37) -> 0 | Q37: =SUM(P$5:P37) -> 0 | R37: =IF(1+Вводные!$B$10>0,R36+N37/(1+Вводные!$B$10)^(A37/Вводные!$B$24),"") -> 0 | S37: =IF(1+Вводные!$B$10>0,S36+P37/(1+Вводные!$B$10)^(A37/Вводные!$B$24),"") -> 0 | T37: =A37*Вводные!B8 -> 32000 | U37: =A37*Вводные!C8 -> 32000
A38: =A37+1 -> 33 | B38: =Ежемесячные!D15*(1+Вводные!B11)^INT((A38-1)/Вводные!$B$24)+SUMIF(Замены!$A$5:$A$14,A38,Замены!$C$5:$C$14) -> 0 | C38: =Ежемесячные!D18*(1+Вводные!B11)^INT((A38-1)/Вводные!$B$24) -> 0 | D38: =C38*Вводные!B14 -> 0 | E38: =SUM(B38,D38) -> 0 | F38: =SUM(E$5:E38) -> 0 | G38: =SUM(B38,C38) -> 0 | H38: =SUM(G$5:G38) -> 0 | I38: =IF(1+Вводные!$B$10>0,I37+E38/(1+Вводные!$B$10)^(A38/Вводные!$B$24),"") -> 0 | J38: =IF(1+Вводные!$B$10>0,J37+G38/(1+Вводные!$B$10)^(A38/Вводные!$B$24),"") -> 0 | K38: =Ежемесячные!G15*(1+Вводные!C11)^INT((A38-1)/Вводные!$B$24)+SUMIF(Замены!$A$5:$A$14,A38,Замены!$D$5:$D$14) -> 0 | L38: =Ежемесячные!G18*(1+Вводные!C11)^INT((A38-1)/Вводные!$B$24) -> 0 | M38: =L38*Вводные!C14 -> 0 | N38: =SUM(K38,M38) -> 0 | O38: =SUM(N$5:N38) -> 0 | P38: =SUM(K38,L38) -> 0 | Q38: =SUM(P$5:P38) -> 0 | R38: =IF(1+Вводные!$B$10>0,R37+N38/(1+Вводные!$B$10)^(A38/Вводные!$B$24),"") -> 0 | S38: =IF(1+Вводные!$B$10>0,S37+P38/(1+Вводные!$B$10)^(A38/Вводные!$B$24),"") -> 0 | T38: =A38*Вводные!B8 -> 33000 | U38: =A38*Вводные!C8 -> 33000
A39: =A38+1 -> 34 | B39: =Ежемесячные!D15*(1+Вводные!B11)^INT((A39-1)/Вводные!$B$24)+SUMIF(Замены!$A$5:$A$14,A39,Замены!$C$5:$C$14) -> 0 | C39: =Ежемесячные!D18*(1+Вводные!B11)^INT((A39-1)/Вводные!$B$24) -> 0 | D39: =C39*Вводные!B14 -> 0 | E39: =SUM(B39,D39) -> 0 | F39: =SUM(E$5:E39) -> 0 | G39: =SUM(B39,C39) -> 0 | H39: =SUM(G$5:G39) -> 0 | I39: =IF(1+Вводные!$B$10>0,I38+E39/(1+Вводные!$B$10)^(A39/Вводные!$B$24),"") -> 0 | J39: =IF(1+Вводные!$B$10>0,J38+G39/(1+Вводные!$B$10)^(A39/Вводные!$B$24),"") -> 0 | K39: =Ежемесячные!G15*(1+Вводные!C11)^INT((A39-1)/Вводные!$B$24)+SUMIF(Замены!$A$5:$A$14,A39,Замены!$D$5:$D$14) -> 0 | L39: =Ежемесячные!G18*(1+Вводные!C11)^INT((A39-1)/Вводные!$B$24) -> 0 | M39: =L39*Вводные!C14 -> 0 | N39: =SUM(K39,M39) -> 0 | O39: =SUM(N$5:N39) -> 0 | P39: =SUM(K39,L39) -> 0 | Q39: =SUM(P$5:P39) -> 0 | R39: =IF(1+Вводные!$B$10>0,R38+N39/(1+Вводные!$B$10)^(A39/Вводные!$B$24),"") -> 0 | S39: =IF(1+Вводные!$B$10>0,S38+P39/(1+Вводные!$B$10)^(A39/Вводные!$B$24),"") -> 0 | T39: =A39*Вводные!B8 -> 34000 | U39: =A39*Вводные!C8 -> 34000
A40: =A39+1 -> 35 | B40: =Ежемесячные!D15*(1+Вводные!B11)^INT((A40-1)/Вводные!$B$24)+SUMIF(Замены!$A$5:$A$14,A40,Замены!$C$5:$C$14) -> 0 | C40: =Ежемесячные!D18*(1+Вводные!B11)^INT((A40-1)/Вводные!$B$24) -> 0 | D40: =C40*Вводные!B14 -> 0 | E40: =SUM(B40,D40) -> 0 | F40: =SUM(E$5:E40) -> 0 | G40: =SUM(B40,C40) -> 0 | H40: =SUM(G$5:G40) -> 0 | I40: =IF(1+Вводные!$B$10>0,I39+E40/(1+Вводные!$B$10)^(A40/Вводные!$B$24),"") -> 0 | J40: =IF(1+Вводные!$B$10>0,J39+G40/(1+Вводные!$B$10)^(A40/Вводные!$B$24),"") -> 0 | K40: =Ежемесячные!G15*(1+Вводные!C11)^INT((A40-1)/Вводные!$B$24)+SUMIF(Замены!$A$5:$A$14,A40,Замены!$D$5:$D$14) -> 0 | L40: =Ежемесячные!G18*(1+Вводные!C11)^INT((A40-1)/Вводные!$B$24) -> 0 | M40: =L40*Вводные!C14 -> 0 | N40: =SUM(K40,M40) -> 0 | O40: =SUM(N$5:N40) -> 0 | P40: =SUM(K40,L40) -> 0 | Q40: =SUM(P$5:P40) -> 0 | R40: =IF(1+Вводные!$B$10>0,R39+N40/(1+Вводные!$B$10)^(A40/Вводные!$B$24),"") -> 0 | S40: =IF(1+Вводные!$B$10>0,S39+P40/(1+Вводные!$B$10)^(A40/Вводные!$B$24),"") -> 0 | T40: =A40*Вводные!B8 -> 35000 | U40: =A40*Вводные!C8 -> 35000
A41: =A40+1 -> 36 | B41: =Ежемесячные!D15*(1+Вводные!B11)^INT((A41-1)/Вводные!$B$24)+SUMIF(Замены!$A$5:$A$14,A41,Замены!$C$5:$C$14) -> 0 | C41: =Ежемесячные!D18*(1+Вводные!B11)^INT((A41-1)/Вводные!$B$24) -> 0 | D41: =C41*Вводные!B14 -> 0 | E41: =SUM(B41,D41) -> 0 | F41: =SUM(E$5:E41) -> 0 | G41: =SUM(B41,C41) -> 0 | H41: =SUM(G$5:G41) -> 0 | I41: =IF(1+Вводные!$B$10>0,I40+E41/(1+Вводные!$B$10)^(A41/Вводные!$B$24),"") -> 0 | J41: =IF(1+Вводные!$B$10>0,J40+G41/(1+Вводные!$B$10)^(A41/Вводные!$B$24),"") -> 0 | K41: =Ежемесячные!G15*(1+Вводные!C11)^INT((A41-1)/Вводные!$B$24)+SUMIF(Замены!$A$5:$A$14,A41,Замены!$D$5:$D$14) -> 0 | L41: =Ежемесячные!G18*(1+Вводные!C11)^INT((A41-1)/Вводные!$B$24) -> 0 | M41: =L41*Вводные!C14 -> 0 | N41: =SUM(K41,M41) -> 0 | O41: =SUM(N$5:N41) -> 0 | P41: =SUM(K41,L41) -> 0 | Q41: =SUM(P$5:P41) -> 0 | R41: =IF(1+Вводные!$B$10>0,R40+N41/(1+Вводные!$B$10)^(A41/Вводные!$B$24),"") -> 0 | S41: =IF(1+Вводные!$B$10>0,S40+P41/(1+Вводные!$B$10)^(A41/Вводные!$B$24),"") -> 0 | T41: =A41*Вводные!B8 -> 36000 | U41: =A41*Вводные!C8 -> 36000
...

Sheet Реестр КП
A1: 06 / Проверка коммерческих предложений
A2: Пустой рабочий реестр: ответ поставщика, источник цены, исполнитель и приёмка. Заполняется по реальному КП.
A4: Статья / вопрос | B4: Модель и комплект | C4: Разово / регулярно | D4: Входит в какой пакет | E4: Кто выполняет | F4: Основание / срок цены | G4: Как принимается | H4: Открытый вопрос
A5: Поставка и точный артикул
A6: Станция и оснастка
A7: Доставка и разгрузка
A8: Налоги и таможенные платежи
A9: Подготовка объекта
A10: Лицензии и доступ к SDK
A11: Прикладная интеграция
A12: Первичное обучение
A13: Периодическое обучение
A14: Гарантийные исключения
A15: SLA: ответ / выезд / восстановление
A16: Расходники и наработка
... A22: Продажа и удаление данных
